BEGIN:VCALENDAR
VERSION:2.0
PRODID:-//NALTO - ECPv6.15.17.1//NONSGML v1.0//EN
CALSCALE:GREGORIAN
METHOD:PUBLISH
X-WR-CALNAME:NALTO
X-ORIGINAL-URL:https://www.nalto.org
X-WR-CALDESC:Events for NALTO
REFRESH-INTERVAL;VALUE=DURATION:PT1H
X-Robots-Tag:noindex
X-PUBLISHED-TTL:PT1H
BEGIN:VTIMEZONE
TZID:UTC
BEGIN:STANDARD
TZOFFSETFROM:+0000
TZOFFSETTO:+0000
TZNAME:UTC
DTSTART:20240101T000000
END:STANDARD
END:VTIMEZONE
BEGIN:VEVENT
DTSTART;VALUE=DATE:20250811
DTEND;VALUE=DATE:20250816
DTSTAMP:20260422T052543
CREATED:20241025T211816Z
LAST-MODIFIED:20250718T142416Z
UID:733-1754870400-1755302399@www.nalto.org
SUMMARY:National Locum Tenens Week 2025 Sponsored by NALTO
DESCRIPTION:National Locum Tenens Week honors the more than 52\,000 locum tenens providers who deliver essential care across America. Now in its ninth year\, the event highlights the critical role these clinicians play in ensuring access to care across the country. This year’s theme\, “Temporary Providers\, Permanent Impact\,” underscores the lasting contributions of locum tenens professionals. To help your organization participate\, NALTO® offers a free marketing toolkit with logos\, social media graphics\, messaging templates\, and outreach ideas. Explore the National Locum Tenens Week Toolkit today! 								\n				\n				\n				\n									\n					\n						\n									Join the Celebration
URL:https://www.nalto.org/event/national-locum-tenens-week-2025/
CATEGORIES:Special Events
ATTACH;FMTTYPE=image/jpeg:https://www.nalto.org/wp-content/uploads/2025/07/nalto-national-locum-tenens-week-featured-july-2025.jpg
END:VEVENT
END:VCALENDAR